BEGIN:VCALENDAR
VERSION:2.0
PRODID:-//ChamberMaster//Event Calendar 2.0//EN
METHOD:PUBLISH
X-PUBLISHED-TTL:P3D
REFRESH-INTERVAL:P3D
CALSCALE:GREGORIAN
BEGIN:VEVENT
DTSTART:20020218T173000Z
DTEND:20020218T190000Z
X-MICROSOFT-CDO-ALLDAYEVENT:FALSE
SUMMARY:E-Lunch
DESCRIPTION:Educational Lunch
X-ALT-DESC;FMTTYPE=text/html:Educational Lunch 
LOCATION:Fort Worth Black Chamber
UID:e.1262.529
SEQUENCE:3
DTSTAMP:20260420T073442Z
URL:http://fwmbcc.chambermaster.com/events/details/e-lunch-02-18-2002-529
END:VEVENT

END:VCALENDAR
