BEGIN:VCALENDAR
VERSION:2.0
PRODID:-//ChamberMaster//Event Calendar 2.0//EN
METHOD:PUBLISH
X-PUBLISHED-TTL:P3D
REFRESH-INTERVAL:P3D
CALSCALE:GREGORIAN
BEGIN:VEVENT
DTSTART:20060320T173000Z
DTEND:20060320T193000Z
X-MICROSOFT-CDO-ALLDAYEVENT:FALSE
SUMMARY:E-LUNCH
DESCRIPTION:E-Lunch
X-ALT-DESC;FMTTYPE=text/html:E-Lunch
LOCATION:Best Western
UID:e.1262.1110
SEQUENCE:3
DTSTAMP:20260425T211829Z
URL:http://fwmbcc.chambermaster.com/events/details/e-lunch-03-20-2006-1110
END:VEVENT

END:VCALENDAR
