BEGIN:VCALENDAR
VERSION:2.0
PRODID:-//ChamberMaster//Event Calendar 2.0//EN
METHOD:PUBLISH
X-PUBLISHED-TTL:P3D
REFRESH-INTERVAL:P3D
CALSCALE:GREGORIAN
BEGIN:VEVENT
DTSTART:20021112T180000Z
DTEND:20021112T193000Z
X-MICROSOFT-CDO-ALLDAYEVENT:FALSE
SUMMARY:Golf Cmte. Wrap-up Summary Session
DESCRIPTION:Rap up session to inform volunteers of how well the tournament did.
X-ALT-DESC;FMTTYPE=text/html:Rap up session to inform volunteers of how well the tournament did.
LOCATION:
UID:e.1262.749
SEQUENCE:3
DTSTAMP:20260423T235455Z
URL:http://fwmbcc.chambermaster.com/events/details/golf-cmte-wrap-up-summary-session-11-12-2002-749
END:VEVENT

END:VCALENDAR
