BEGIN:VCALENDAR
VERSION:2.0
PRODID:-//ChamberMaster//Event Calendar 2.0//EN
METHOD:PUBLISH
X-PUBLISHED-TTL:P3D
REFRESH-INTERVAL:P3D
CALSCALE:GREGORIAN
BEGIN:VEVENT
DTSTART:20030203T233000Z
DTEND:20030204T010000Z
X-MICROSOFT-CDO-ALLDAYEVENT:FALSE
SUMMARY:Power Monday
DESCRIPTION:Program:  Reby Cary\, Cook Marrow Donation
X-ALT-DESC;FMTTYPE=text/html:Program:  Reby Cary\, Cook Marrow Donation 
LOCATION:Goodwill Industries
UID:e.1262.778
SEQUENCE:3
DTSTAMP:20260424T154721Z
URL:http://fwmbcc.chambermaster.com/events/details/power-monday-02-03-2003-778
END:VEVENT

END:VCALENDAR
