BEGIN:VCALENDAR
VERSION:2.0
PRODID:-//ChamberMaster//Event Calendar 2.0//EN
METHOD:PUBLISH
X-PUBLISHED-TTL:P3D
REFRESH-INTERVAL:P3D
CALSCALE:GREGORIAN
BEGIN:VEVENT
DTSTART:20020422T233000Z
DTEND:20020423T013000Z
X-MICROSOFT-CDO-ALLDAYEVENT:FALSE
SUMMARY:Power Monday
DESCRIPTION:Power Monday with NBC 5 KXAS Mike Snyder\, David Finfrock\, Newy Scrruggs\, and Jane McGarry
X-ALT-DESC;FMTTYPE=text/html:Power Monday with NBC 5 KXAS Mike Snyder\, David Finfrock\, Newy Scrruggs\, and Jane McGarry
LOCATION:Goodwill Industries\, 4005 Campus Drive\, Fort Worth\, TX
UID:e.1262.12
SEQUENCE:3
DTSTAMP:20260420T012058Z
URL:http://fwmbcc.chambermaster.com/events/details/power-monday-04-22-2002-12
END:VEVENT

END:VCALENDAR
