BEGIN:VCALENDAR
VERSION:2.0
PRODID:-//ChamberMaster//Event Calendar 2.0//EN
METHOD:PUBLISH
X-PUBLISHED-TTL:P3D
REFRESH-INTERVAL:P3D
CALSCALE:GREGORIAN
BEGIN:VEVENT
DTSTART:20020329T003000Z
DTEND:20020329T000000Z
X-MICROSOFT-CDO-ALLDAYEVENT:FALSE
SUMMARY:Transit Final Alternatives
DESCRIPTION:Final Transit Lines Approved by City Council
X-ALT-DESC;FMTTYPE=text/html:Final Transit Lines Approved by City Council 
LOCATION:Southside Community Center\, 909 E Rosedale
UID:e.1262.7
SEQUENCE:3
DTSTAMP:20260422T234130Z
URL:http://fwmbcc.chambermaster.com/events/details/transit-final-alternatives-03-28-2002-7
END:VEVENT

END:VCALENDAR
